BEGIN:VCALENDAR
VERSION:2.0
PRODID:SchoolNow
CALSCALE:GREGORIAN
BEGIN:VEVENT
UID:9554c298-eb73-11f0-b7d0-0afff95a4f67
DTSTAMP:20260422T131509Z
SUMMARY:Hot Dog Day
URL;VALUE=URI:https://www.ksd140.org/bannes/calendar/8832152/hot-dog-day
DTSTART;VALUE=DATE:20260420
DTEND;VALUE=DATE:20260421
END:VEVENT
END:VCALENDAR
