BEGIN:VCALENDAR
VERSION:2.0
PRODID:SchoolNow
CALSCALE:GREGORIAN
BEGIN:VEVENT
UID:cc10fc3c-7f96-11f0-bf6c-0a58a9feac02
DTSTAMP:20260425T142508Z
SUMMARY:PTO Fun Run
URL;VALUE=URI:https://www.ksd140.org/keller/calendar/8533748/pto-fun-run
DTSTART;VALUE=DATE:20260416
DTEND;VALUE=DATE:20260417
END:VEVENT
END:VCALENDAR
