BEGIN:VCALENDAR
VERSION:2.0
PRODID:SchoolNow
CALSCALE:GREGORIAN
BEGIN:VEVENT
UID:ea208f52-0c50-11f1-81ee-0a58a9feac02
DTSTAMP:20260424T201009Z
SUMMARY:Jet's Pizza
URL;VALUE=URI:https://www.ksd140.org/keller/calendar/8858051/jets-pizza
DTSTART;VALUE=DATE:20260424
DTEND;VALUE=DATE:20260425
END:VEVENT
END:VCALENDAR
