BEGIN:VCALENDAR
VERSION:2.0
PRODID:SchoolNow
CALSCALE:GREGORIAN
BEGIN:VEVENT
UID:a94f3592-1744-11f1-a233-0a58a9feac02
DTSTAMP:20260424T201009Z
SUMMARY:Ivy League Cooking Class
URL;VALUE=URI:https://www.ksd140.org/keller/calendar/8888218/ivy-league-coo
 king-class
DTSTART:20260424T193000Z
DTEND:20260424T210000Z
END:VEVENT
END:VCALENDAR
