BEGIN:VCALENDAR
VERSION:2.0
PRODID:SchoolNow
CALSCALE:GREGORIAN
BEGIN:VEVENT
UID:8d69c7b0-1975-11f1-8f63-0e6a16e7136d
DTSTAMP:20260422T132509Z
SUMMARY:Girls Volleyball Game @ Bannes
URL;VALUE=URI:https://www.ksd140.org/keller/calendar/8896278/girls-volleyba
 ll-game-bannes
DTSTART:20260420T201500Z
DTEND:20260420T211500Z
END:VEVENT
END:VCALENDAR
