BEGIN:VCALENDAR
VERSION:2.0
PRODID:SchoolNow
CALSCALE:GREGORIAN
BEGIN:VEVENT
UID:4f5caf26-31f5-11f1-a4ea-0affe3b4e95b
DTSTAMP:20260424T201008Z
SUMMARY:5th Grade STEM Club
URL;VALUE=URI:https://www.ksd140.org/keller/calendar/8974905/5th-grade-stem
 -club
DTSTART:20260424T193000Z
DTEND:20260424T201500Z
END:VEVENT
END:VCALENDAR
